BEGIN:VCALENDAR
VERSION:2.0
PRODID:-//The Kodachrome Babies - ECPv6.15.20//NONSGML v1.0//EN
CALSCALE:GREGORIAN
METHOD:PUBLISH
X-ORIGINAL-URL:https://kodachromebabies.com
X-WR-CALDESC:Events for The Kodachrome Babies
REFRESH-INTERVAL;VALUE=DURATION:PT1H
X-Robots-Tag:noindex
X-PUBLISHED-TTL:PT1H
BEGIN:VTIMEZONE
TZID:America/New_York
BEGIN:DAYLIGHT
TZOFFSETFROM:-0500
TZOFFSETTO:-0400
TZNAME:EDT
DTSTART:20130310T070000
END:DAYLIGHT
BEGIN:STANDARD
TZOFFSETFROM:-0400
TZOFFSETTO:-0500
TZNAME:EST
DTSTART:20131103T060000
END:STANDARD
BEGIN:DAYLIGHT
TZOFFSETFROM:-0500
TZOFFSETTO:-0400
TZNAME:EDT
DTSTART:20140309T070000
END:DAYLIGHT
BEGIN:STANDARD
TZOFFSETFROM:-0400
TZOFFSETTO:-0500
TZNAME:EST
DTSTART:20141102T060000
END:STANDARD
BEGIN:DAYLIGHT
TZOFFSETFROM:-0500
TZOFFSETTO:-0400
TZNAME:EDT
DTSTART:20150308T070000
END:DAYLIGHT
BEGIN:STANDARD
TZOFFSETFROM:-0400
TZOFFSETTO:-0500
TZNAME:EST
DTSTART:20151101T060000
END:STANDARD
END:VTIMEZONE
BEGIN:VEVENT
DTSTART;TZID=America/New_York:20140316T200000
DTEND;TZID=America/New_York:20140316T220000
DTSTAMP:20260421T143411
CREATED:20140218T203409Z
LAST-MODIFIED:20140218T204024Z
UID:749-1395000000-1395007200@kodachromebabies.com
SUMMARY:Oldies Night Concert Series
DESCRIPTION:The Babes return to the Park Place Teen Center at Tuscora Park in New Philadelphia as featured performers in the Oldies Night Concert Series. We’ll dust off our “oldies” tunes and maybe throw in a few newbies just for fun : )
URL:https://kodachromebabies.com/event/oldies-night-concert-series/
LOCATION:Park Place Teen Center\, 161 Tuscora Ave NW\, New Philadelphia\, OH\, 44663\, United States
END:VEVENT
END:VCALENDAR