BEGIN:VCALENDAR
VERSION:2.0
PRODID:-//The Kodachrome Babies - ECPv6.15.20//NONSGML v1.0//EN
CALSCALE:GREGORIAN
METHOD:PUBLISH
X-ORIGINAL-URL:https://kodachromebabies.com
X-WR-CALDESC:Events for The Kodachrome Babies
REFRESH-INTERVAL;VALUE=DURATION:PT1H
X-Robots-Tag:noindex
X-PUBLISHED-TTL:PT1H
BEGIN:VTIMEZONE
TZID:America/New_York
BEGIN:DAYLIGHT
TZOFFSETFROM:-0500
TZOFFSETTO:-0400
TZNAME:EDT
DTSTART:20120311T070000
END:DAYLIGHT
BEGIN:STANDARD
TZOFFSETFROM:-0400
TZOFFSETTO:-0500
TZNAME:EST
DTSTART:20121104T060000
END:STANDARD
BEGIN:DAYLIGHT
TZOFFSETFROM:-0500
TZOFFSETTO:-0400
TZNAME:EDT
DTSTART:20130310T070000
END:DAYLIGHT
BEGIN:STANDARD
TZOFFSETFROM:-0400
TZOFFSETTO:-0500
TZNAME:EST
DTSTART:20131103T060000
END:STANDARD
BEGIN:DAYLIGHT
TZOFFSETFROM:-0500
TZOFFSETTO:-0400
TZNAME:EDT
DTSTART:20140309T070000
END:DAYLIGHT
BEGIN:STANDARD
TZOFFSETFROM:-0400
TZOFFSETTO:-0500
TZNAME:EST
DTSTART:20141102T060000
END:STANDARD
END:VTIMEZONE
BEGIN:VEVENT
DTSTART;TZID=America/New_York:20131101T220000
DTEND;TZID=America/New_York:20131102T010000
DTSTAMP:20260421T083535
CREATED:20131101T210932Z
LAST-MODIFIED:20131101T210932Z
UID:709-1383343200-1383354000@kodachromebabies.com
SUMMARY:George's Lounge
DESCRIPTION:Come see the Babies at George’s Lounge in Canton during First Friday AND the following night\, too! We’ll play from 9:00 to 10:00 p.m. on Friday and from 10:00 p.m. to midnight on Saturday. Don’t miss our special guest Atom Lax\, who will blow your mind with his fingerstyle guitar from 9:00 to 10:00 p.m. on Saturday. And enjoy an awesome burger while you’re there. You won’t regret it!
URL:https://kodachromebabies.com/event/georges-lounge-2/
LOCATION:George’s Lounge\, 229 Cleveland Avenue NW\, Canton\, OH\, 44702\, United States
END:VEVENT
END:VCALENDAR