BEGIN:VCALENDAR
VERSION:2.0
PRODID:-//The Kodachrome Babies - ECPv6.15.20//NONSGML v1.0//EN
CALSCALE:GREGORIAN
METHOD:PUBLISH
X-ORIGINAL-URL:https://kodachromebabies.com
X-WR-CALDESC:Events for The Kodachrome Babies
REFRESH-INTERVAL;VALUE=DURATION:PT1H
X-Robots-Tag:noindex
X-PUBLISHED-TTL:PT1H
BEGIN:VTIMEZONE
TZID:America/New_York
BEGIN:DAYLIGHT
TZOFFSETFROM:-0500
TZOFFSETTO:-0400
TZNAME:EDT
DTSTART:20120311T070000
END:DAYLIGHT
BEGIN:STANDARD
TZOFFSETFROM:-0400
TZOFFSETTO:-0500
TZNAME:EST
DTSTART:20121104T060000
END:STANDARD
BEGIN:DAYLIGHT
TZOFFSETFROM:-0500
TZOFFSETTO:-0400
TZNAME:EDT
DTSTART:20130310T070000
END:DAYLIGHT
BEGIN:STANDARD
TZOFFSETFROM:-0400
TZOFFSETTO:-0500
TZNAME:EST
DTSTART:20131103T060000
END:STANDARD
BEGIN:DAYLIGHT
TZOFFSETFROM:-0500
TZOFFSETTO:-0400
TZNAME:EDT
DTSTART:20140309T070000
END:DAYLIGHT
BEGIN:STANDARD
TZOFFSETFROM:-0400
TZOFFSETTO:-0500
TZNAME:EST
DTSTART:20141102T060000
END:STANDARD
END:VTIMEZONE
BEGIN:VEVENT
DTSTART;TZID=America/New_York:20130914T140000
DTEND;TZID=America/New_York:20130914T150000
DTSTAMP:20260421T070708
CREATED:20130806T142018Z
LAST-MODIFIED:20130806T142018Z
UID:681-1379167200-1379170800@kodachromebabies.com
SUMMARY:Barnaroo
DESCRIPTION:The Kodachrome Babies were asked back to Barnaroo\, a local music festival held in a big old barn! We are not positive what time we will be playing yet\, but it should be around 1 or 2 in the afternoon (we will post the definite time on our facebook page). This event features all different genres of musical acts\, a food station\, camping\, and more!
URL:https://kodachromebabies.com/event/barnaroo/
LOCATION:Unnamed Venue\, 5556 Boy Scout Rd\, Dover\, 44622
END:VEVENT
END:VCALENDAR